BEGIN:VCALENDAR
VERSION:2.0
PRODID:-//DiveAlaska - ECPv5.14.2.1//NONSGML v1.0//EN
CALSCALE:GREGORIAN
METHOD:PUBLISH
X-WR-CALNAME:DiveAlaska
X-ORIGINAL-URL:https://divealaska.net
X-WR-CALDESC:Events for DiveAlaska
BEGIN:VTIMEZONE
TZID:America/Anchorage
BEGIN:DAYLIGHT
TZOFFSETFROM:-0900
TZOFFSETTO:-0800
TZNAME:AKDT
DTSTART:20230312T110000
END:DAYLIGHT
BEGIN:STANDARD
TZOFFSETFROM:-0800
TZOFFSETTO:-0900
TZNAME:AKST
DTSTART:20231105T100000
END:STANDARD
END:VTIMEZONE
BEGIN:VEVENT
DTSTART;VALUE=DATE:20230604
DTEND;VALUE=DATE:20230605
DTSTAMP:20260425T195228
CREATED:20221230T022909Z
LAST-MODIFIED:20221230T022909Z
UID:8345-1685836800-1685923199@divealaska.net
SUMMARY:Open Water Certifying Dives #2 (Sockeye)
DESCRIPTION:Certifying Dives in Open Water \n  \nCertifying dives for referral or full certification.
URL:https://divealaska.net/event/open-water-certifying-dives-2-sockeye-3/
END:VEVENT
BEGIN:VEVENT
DTSTART;VALUE=DATE:20230604
DTEND;VALUE=DATE:20230605
DTSTAMP:20260425T195228
CREATED:20221230T023955Z
LAST-MODIFIED:20221230T023955Z
UID:8376-1685836800-1685923199@divealaska.net
SUMMARY:Drysuit Certifying Dives (Chinook)
DESCRIPTION:Open water session for Drysuit diving \n  \nCertification for Drysuit Specialty.
URL:https://divealaska.net/event/drysuit-certifying-dives-chinook-3/
END:VEVENT
END:VCALENDAR